BEGIN:VCALENDAR
VERSION:2.0
PRODID:-//ADUFC - ECPv6.2.2//NONSGML v1.0//EN
CALSCALE:GREGORIAN
METHOD:PUBLISH
X-WR-CALNAME:ADUFC
X-ORIGINAL-URL:https://www.adufc.org.br
X-WR-CALDESC:Eventos para ADUFC
REFRESH-INTERVAL;VALUE=DURATION:PT1H
X-Robots-Tag:noindex
X-PUBLISHED-TTL:PT1H
BEGIN:VTIMEZONE
TZID:America/Sao_Paulo
BEGIN:STANDARD
TZOFFSETFROM:-0300
TZOFFSETTO:-0300
TZNAME:-03
DTSTART:20260101T000000
END:STANDARD
END:VTIMEZONE
BEGIN:VEVENT
DTSTART;TZID=America/Sao_Paulo:20260422T140000
DTEND;TZID=America/Sao_Paulo:20260424T230000
DTSTAMP:20260423T024552
CREATED:20260416T174824Z
LAST-MODIFIED:20260416T174824Z
UID:34258-1776866400-1777071600@www.adufc.org.br
SUMMARY:Celebração dos 46 anos da ADUFC
DESCRIPTION:A ADUFC comemora seus 46 anos com uma série de atividades entre os dias 22 e 24 de abril na sede em Fortaleza. Com uma trajetória marcada por luta\, organização coletiva e conquistas em defesa da educação pública e pela garantia de direitos para a categoria docente\, o sindicato faz um convite direto para celebrar seu aniversário em 2026: estar junto. As atividades reúnem memória\, formação e celebração na sede da Seção Sindical em Fortaleza. \nRECORDA COMIGO! Quarta\, 22 de abril de 2026\n14h | Roda de Conversa “Entre Gerações” com gerações variadas do movimento sindical docente da ADUFC e movimento estudantil da UFC\, UFCA e UNILAB (Auditório Izaíra Silvino)\n16h | Café com Aposentados + apresentação do Coral da ADUFC com o show “Canções da Resistência” (Espaço Cultural)\n18h às 21h | Comercialização de comidas e bebidas no Espaço Cultural pelo Quintal de Comida\n18h30 às 21h | Sarau Cultural com lançamento do livro “Cartas para Belchior”\, música\, livros e poesia\nSede da ADUFC em Fortaleza\nAv. da Universidade\, 2646\, Benfica\n* O estacionamento da ADUFC estará disponível durante a programação\n* Programação aberta e gratuita \nAPRENDE COMIGO! Quinta-feira\, 23 de abril de 2026\n15h às 16h30 | Oficina Tambores e Danças da música africana (Ghana) – Aula com a Prof.ª e percussionista Catherine Furtado (Inscrições aqui) \n17h às 18h30 | Oficina A Pedagogia da Capoeira Angola: Ritmo\, Movimento e Oralidade como Instrumentos de Educação e Tecnologia – Aula com Mestre Walter e participação do grupo de capoeira Angola Atitude (Inscrições aqui)\n16h às 21h | Feira Cultural com banquinha de livros e objetos do Plebeu Gabinete de Leitura\, produtos da reforma agrária com MST\, Feira Negra (acessórios\, roupas\, artesanato\, objetos)\, Dami Cruz (roupas e acessórios)\, Sapato Largo e Casa de Amizade Brasil-Cuba\n16h às 21h30 | Comercialização de comidas e bebidas no Espaço Cultural pelo Quintal de Comida\n18h30 às 21h30 | Forró pé de serra com Juan Torquato\nSede da ADUFC em Fortaleza\nAv. da Universidade\, 2646\, Benfica\n* O estacionamento da ADUFC estará disponível durante a programação\n* Programação aberta e gratuita \nBAILA COMIGO! Sexta-feira\, 24 de abril de 2026\n19h às 23h |  Apresentação do Caldeirão da ADUFC + DJ Marji com repertório brasileiro e internacional com os agitos dos últimos 46 anos + comida de boteco\nSede da ADUFC em Fortaleza\nAv. da Universidade\, 2646\, Benfica\n*O estacionamento da ADUFC não estará disponívelneste dia pois será usado como área da programação\n*Teremos Espaço Infantil das 19h30 às 22h30 para crianças de 03 a 10 anos\n* Os convites serão distribuídos antecipadamente para docentes sindicalizados/as
URL:https://www.adufc.org.br/evento/celebracao-dos-46-anos-da-adufc/
LOCATION:Sede da ADUFC-Fortaleza\, Av. da Universidade\, 2346\, Fortaleza\, Ceará\, 60020-180\, Brasil
END:VEVENT
END:VCALENDAR