BEGIN:VCALENDAR
VERSION:2.0
PRODID:-//ADUFC - ECPv6.2.2//NONSGML v1.0//EN
CALSCALE:GREGORIAN
METHOD:PUBLISH
X-ORIGINAL-URL:https://www.adufc.org.br
X-WR-CALDESC:Eventos para ADUFC
REFRESH-INTERVAL;VALUE=DURATION:PT1H
X-Robots-Tag:noindex
X-PUBLISHED-TTL:PT1H
BEGIN:VTIMEZONE
TZID:America/Sao_Paulo
BEGIN:STANDARD
TZOFFSETFROM:-0300
TZOFFSETTO:-0300
TZNAME:-03
DTSTART:20240101T000000
END:STANDARD
END:VTIMEZONE
BEGIN:VEVENT
DTSTART;TZID=America/Sao_Paulo:20240427T150000
DTEND;TZID=America/Sao_Paulo:20240427T180000
DTSTAMP:20260421T212654
CREATED:20240419T190948Z
LAST-MODIFIED:20240419T190948Z
UID:28610-1714230000-1714240800@www.adufc.org.br
SUMMARY:GREVE DOCENTE - Panfletagem e discussão sobre a greve no Evento Cariri Desenhado
DESCRIPTION:No Centro Cultural do Cariri
URL:https://www.adufc.org.br/evento/greve-docente-panfletagem-e-discussao-sobre-a-greve-no-evento-cariri-desenhado/
LOCATION:Ceará
END:VEVENT
END:VCALENDAR