BEGIN:VCALENDAR
VERSION:2.0
PRODID:-//ADUFC - ECPv6.2.2//NONSGML v1.0//EN
CALSCALE:GREGORIAN
METHOD:PUBLISH
X-ORIGINAL-URL:https://www.adufc.org.br
X-WR-CALDESC:Eventos para ADUFC
REFRESH-INTERVAL;VALUE=DURATION:PT1H
X-Robots-Tag:noindex
X-PUBLISHED-TTL:PT1H
BEGIN:VTIMEZONE
TZID:America/Sao_Paulo
BEGIN:STANDARD
TZOFFSETFROM:-0300
TZOFFSETTO:-0300
TZNAME:-03
DTSTART:20240101T000000
END:STANDARD
END:VTIMEZONE
BEGIN:VEVENT
DTSTART;VALUE=DATE:20240425
DTEND;VALUE=DATE:20240426
DTSTAMP:20260421T212641
CREATED:20240419T190707Z
LAST-MODIFIED:20240419T190707Z
UID:28606-1714003200-1714089599@www.adufc.org.br
SUMMARY:GREVE DOCENTE - Reunião com os diretores dos Centros e pró-reitorias
DESCRIPTION:
URL:https://www.adufc.org.br/evento/greve-docente-reuniao-com-os-diretores-dos-centros-e-pro-reitorias/
LOCATION:Ceará
END:VEVENT
BEGIN:VEVENT
DTSTART;TZID=America/Sao_Paulo:20240425T090000
DTEND;TZID=America/Sao_Paulo:20240425T100000
DTSTAMP:20260421T212641
CREATED:20240425T192830Z
LAST-MODIFIED:20240425T192830Z
UID:28755-1714035600-1714039200@www.adufc.org.br
SUMMARY:GREVE DOCENTE - Assembleia Geral da ADUFC
DESCRIPTION:Tenda da reitoria da UFC e interiores
URL:https://www.adufc.org.br/evento/greve-docente-assembleia-geral-da-adufc/
LOCATION:Ceará
END:VEVENT
BEGIN:VEVENT
DTSTART;TZID=America/Sao_Paulo:20240425T140000
DTEND;TZID=America/Sao_Paulo:20240425T163000
DTSTAMP:20260421T212641
CREATED:20240425T193009Z
LAST-MODIFIED:20240425T193009Z
UID:28757-1714053600-1714062600@www.adufc.org.br
SUMMARY:GREVE DOCENTE - Assembleia Geral TAEs
DESCRIPTION:Tenda da reitoria da UFC
URL:https://www.adufc.org.br/evento/greve-docente-assembleia-geral-taes/
LOCATION:Ceará
END:VEVENT
BEGIN:VEVENT
DTSTART;TZID=America/Sao_Paulo:20240425T160000
DTEND;TZID=America/Sao_Paulo:20240425T170000
DTSTAMP:20260421T212641
CREATED:20240425T192715Z
LAST-MODIFIED:20240425T192715Z
UID:28753-1714060800-1714064400@www.adufc.org.br
SUMMARY:GREVE DOCENTE - Reunião Comando de Greve  Docente da UFC
DESCRIPTION:Sede da ADUFC em Fortaleza
URL:https://www.adufc.org.br/evento/greve-docente-reuniao-comando-de-greve-docente-da-ufc/
LOCATION:Ceará
END:VEVENT
BEGIN:VEVENT
DTSTART;TZID=America/Sao_Paulo:20240425T180000
DTEND;TZID=America/Sao_Paulo:20240425T193000
DTSTAMP:20260421T212641
CREATED:20240425T193043Z
LAST-MODIFIED:20240425T193043Z
UID:28759-1714068000-1714073400@www.adufc.org.br
SUMMARY:GREVE DOCENTE - Live sobre Carreira Docente
DESCRIPTION:YouTube da ADUFC
URL:https://www.adufc.org.br/evento/greve-docente-live-sobre-carreira-docente/
LOCATION:Ceará
END:VEVENT
END:VCALENDAR