BEGIN:VCALENDAR
VERSION:2.0
PRODID:-//ADUFC - ECPv6.2.2//NONSGML v1.0//EN
CALSCALE:GREGORIAN
METHOD:PUBLISH
X-WR-CALNAME:ADUFC
X-ORIGINAL-URL:https://www.adufc.org.br
X-WR-CALDESC:Eventos para ADUFC
REFRESH-INTERVAL;VALUE=DURATION:PT1H
X-Robots-Tag:noindex
X-PUBLISHED-TTL:PT1H
BEGIN:VTIMEZONE
TZID:America/Sao_Paulo
BEGIN:STANDARD
TZOFFSETFROM:-0300
TZOFFSETTO:-0300
TZNAME:-03
DTSTART:20240101T000000
END:STANDARD
END:VTIMEZONE
BEGIN:VEVENT
DTSTART;TZID=America/Sao_Paulo:20240424T080000
DTEND;TZID=America/Sao_Paulo:20240424T123000
DTSTAMP:20260421T203618
CREATED:20240425T192323Z
LAST-MODIFIED:20240425T192347Z
UID:28745-1713945600-1713961800@www.adufc.org.br
SUMMARY:GREVE DOCENTE - Marcha Greve Nacional da Educação
DESCRIPTION:Ato saindo da Praça da Imprensa
URL:https://www.adufc.org.br/evento/greve-docente-marcha-greve-nacional-da-educacao/
LOCATION:Ceará
END:VEVENT
BEGIN:VEVENT
DTSTART;TZID=America/Sao_Paulo:20240424T090000
DTEND;TZID=America/Sao_Paulo:20240424T170000
DTSTAMP:20260421T203618
CREATED:20240425T192425Z
LAST-MODIFIED:20240425T192425Z
UID:28747-1713949200-1713978000@www.adufc.org.br
SUMMARY:GREVE DOCENTE - Roda de conversa participação  das mulheres no movimento dos trabalhadores\, divisão sexual do  trabalho\, consciência de classe - NEGIF
DESCRIPTION:Tenda reitoria da UFC
URL:https://www.adufc.org.br/evento/greve-docente-roda-de-conversa-participacao-das-mulheres-no-movimento-dos-trabalhadores-divisao-sexual-do-trabalho-consciencia-de-classe-negif/
LOCATION:Ceará
END:VEVENT
BEGIN:VEVENT
DTSTART;TZID=America/Sao_Paulo:20240424T140000
DTEND;TZID=America/Sao_Paulo:20240424T163000
DTSTAMP:20260421T203618
CREATED:20240425T192516Z
LAST-MODIFIED:20240425T192627Z
UID:28749-1713967200-1713976200@www.adufc.org.br
SUMMARY:GREVE DOCENTE - Live “Greve na Educação: uma  história de lutas e conquistas”
DESCRIPTION:YouTube da ADUFC
URL:https://www.adufc.org.br/evento/greve-docente-filme-a-classe-operaria-vai-ao-paraiso/
LOCATION:Ceará
END:VEVENT
BEGIN:VEVENT
DTSTART;TZID=America/Sao_Paulo:20240424T150000
DTEND;TZID=America/Sao_Paulo:20240424T163000
DTSTAMP:20260421T203618
CREATED:20240419T190525Z
LAST-MODIFIED:20240419T190525Z
UID:28603-1713970800-1713976200@www.adufc.org.br
SUMMARY:GREVE DOCENTE - Live - direito de greve com Zuleide Queiroz
DESCRIPTION:No canal do youtube da ADUFC
URL:https://www.adufc.org.br/evento/greve-docente-live-direito-de-greve-com-zuleide-queiroz/
LOCATION:Ceará
END:VEVENT
END:VCALENDAR