BEGIN:VCALENDAR
VERSION:2.0
PRODID:-//ADUFC - ECPv6.2.2//NONSGML v1.0//EN
CALSCALE:GREGORIAN
METHOD:PUBLISH
X-ORIGINAL-URL:https://www.adufc.org.br
X-WR-CALDESC:Eventos para ADUFC
REFRESH-INTERVAL;VALUE=DURATION:PT1H
X-Robots-Tag:noindex
X-PUBLISHED-TTL:PT1H
BEGIN:VTIMEZONE
TZID:America/Sao_Paulo
BEGIN:STANDARD
TZOFFSETFROM:-0300
TZOFFSETTO:-0300
TZNAME:-03
DTSTART:20240101T000000
END:STANDARD
END:VTIMEZONE
BEGIN:VEVENT
DTSTART;TZID=America/Sao_Paulo:20240418T090000
DTEND;TZID=America/Sao_Paulo:20240418T090000
DTSTAMP:20260421T054913
CREATED:20240416T182001Z
LAST-MODIFIED:20240416T205410Z
UID:28515-1713430800-1713430800@www.adufc.org.br
SUMMARY:GREVE DOCENTE - Panfletagem no Campus do Pici
DESCRIPTION:Na cantina da Física
URL:https://www.adufc.org.br/evento/panfletagem-no-campus-do-pici-2/
LOCATION:Ceará
END:VEVENT
BEGIN:VEVENT
DTSTART;TZID=America/Sao_Paulo:20240418T180000
DTEND;TZID=America/Sao_Paulo:20240418T193000
DTSTAMP:20260421T054913
CREATED:20240416T180645Z
LAST-MODIFIED:20240416T205358Z
UID:28505-1713463200-1713468600@www.adufc.org.br
SUMMARY:GREVE DOCENTE - Arcabouço fiscal e as ameaças ao serviço público
DESCRIPTION:Transmitido pelo Youtube da ADUFC. \nDebatedores:\nProfª. Iael de Souza (Faced/UFC)\nProf. Mauro Sala (IFSP) \nMediadora:\nProfª. Irenísia Oliveira (presidenta da ADUFC) \n 
URL:https://www.adufc.org.br/evento/live-youtube-arcabouco-fiscal-e-as-ameacas-ao-servico-publico/
LOCATION:Ceará
END:VEVENT
END:VCALENDAR