BEGIN:VCALENDAR
VERSION:2.0
PRODID:-//ADUFC - ECPv6.2.2//NONSGML v1.0//EN
CALSCALE:GREGORIAN
METHOD:PUBLISH
X-ORIGINAL-URL:https://www.adufc.org.br
X-WR-CALDESC:Eventos para ADUFC
REFRESH-INTERVAL;VALUE=DURATION:PT1H
X-Robots-Tag:noindex
X-PUBLISHED-TTL:PT1H
BEGIN:VTIMEZONE
TZID:America/Sao_Paulo
BEGIN:STANDARD
TZOFFSETFROM:-0300
TZOFFSETTO:-0300
TZNAME:-03
DTSTART:20240101T000000
END:STANDARD
END:VTIMEZONE
BEGIN:VEVENT
DTSTART;TZID=America/Sao_Paulo:20240417T090000
DTEND;TZID=America/Sao_Paulo:20240417T090000
DTSTAMP:20260421T054913
CREATED:20240416T181442Z
LAST-MODIFIED:20240416T205416Z
UID:28507-1713344400-1713344400@www.adufc.org.br
SUMMARY:GREVE DOCENTE - Ato no Palácio da Abolição
DESCRIPTION:Ato contra a criminalização do direito de greve – em apoio aos docentes das universidades estaduais do Ceará
URL:https://www.adufc.org.br/evento/palacio-da-abolicao/
LOCATION:Palácio da Abolição\, Av. Barão de Studart\, 505 - Meireles\, Fortaleza
END:VEVENT
END:VCALENDAR