BEGIN:VCALENDAR
VERSION:2.0
PRODID:-//ADUFC - ECPv6.2.2//NONSGML v1.0//EN
CALSCALE:GREGORIAN
METHOD:PUBLISH
X-ORIGINAL-URL:https://www.adufc.org.br
X-WR-CALDESC:Eventos para ADUFC
REFRESH-INTERVAL;VALUE=DURATION:PT1H
X-Robots-Tag:noindex
X-PUBLISHED-TTL:PT1H
BEGIN:VTIMEZONE
TZID:America/Sao_Paulo
BEGIN:STANDARD
TZOFFSETFROM:-0300
TZOFFSETTO:-0300
TZNAME:-03
DTSTART:20240101T000000
END:STANDARD
END:VTIMEZONE
BEGIN:VEVENT
DTSTART;TZID=America/Sao_Paulo:20240404T080000
DTEND;TZID=America/Sao_Paulo:20240404T180000
DTSTAMP:20260421T054912
CREATED:20240401T101526Z
LAST-MODIFIED:20240401T101526Z
UID:28237-1712217600-1712253600@www.adufc.org.br
SUMMARY:Plebiscito consultivo sobre a construção da greve docente na UFC\, UFCA e UNILAB
DESCRIPTION:A ADUFC realizará\, no próximo dia 4 de abril\, um plebiscito consultivo sobre a construção da greve dos/as docentes das universidades federais cearenses. A consulta será aberta a todos/as os/as docentes sindicalizados/as da UFC\, da UFCA e da UNILAB\, ativos e aposentados\, e ocorrerá de forma virtual. O plebiscito é um dispositivo regimental e busca ouvir os/as docentes sobre a construção\, o fortalecimento e a mobilização para a greve. Já no dia 9 de abril\, a ADUFC convoca Assembleia Geral da categoria para votar a deflagração da greve com início no dia 15 de abril — a data foi indicada na última sexta-feira (22) em reunião do Setor das Instituições Federais de Ensino Superior (IFES) do ANDES-SN\, em Brasília. No dia 10 de abril\, o Sindicato Nacional reúne novamente as seções sindicais das IFES para debater essa rodada de assembleias ocorrida nos estados. \nEm Assembleia Geral convocada pela ADUFC\, foi aprovado\, no último dia 20 de março\, o indicativo de greve da ADUFC apontado para greve unificada da Educação e do funcionalismo público federal. A votação ocorreu nos jardins da reitoria da UFC\, em Fortaleza\, com transmissão virtual para os campi do interior. Na mesma Assembleia foram constituídos os comitês de mobilização nas universidades. Servidores técnico-administrativos das universidades federais cearenses também já deflagraram greve neste mês. \nA greve dos/as docentes federais é uma mobilização nacional com participação de entidades sindicais de todo o país e está inserida no contexto da campanha salarial dos servidores públicos federais e da proposta do governo de reajuste zero em 2024. O índice reivindicado por docentes federais é de 22\,71%. O governo federal mantém a proposta de 9%\, em duas parcelas de 4\,5%\, com a primeira a ser paga apenas em maio de 2025 e a outra metade em 2026\, gerando revolta nas categorias. Participe da mobilização em defesa da educação\, da universidade pública e do serviço público. Por melhores condições de trabalho\, vem pra luta! \n 
URL:https://www.adufc.org.br/evento/plebiscito-consultivo-sobre-a-construcao-da-greve-docente-na-ufc-ufca-e-unilab/
LOCATION:Online
END:VEVENT
BEGIN:VEVENT
DTSTART;TZID=America/Sao_Paulo:20240404T190000
DTEND;TZID=America/Sao_Paulo:20240404T203000
DTSTAMP:20260421T054912
CREATED:20240402T121447Z
LAST-MODIFIED:20240402T121505Z
UID:28278-1712257200-1712262600@www.adufc.org.br
SUMMARY:Reunião do Conselho de Representantes da ADUFC
DESCRIPTION:A Presidenta da ADUFC\, Prof.ª Irenísia Torres de Oliveira\, no uso de suas atribuições legais e regimentais\, convoca o Conselho de Representantes da ADUFC (Biênio 2023-2025) para reunião\, a realizar-se no dia 04 de abril de 2024 (quinta-feira)\, às 19 horas\, na sede da ADUFC\, com pauta única: \n1. Apuração do Plebiscito Consultivo da ADUFC sobre a construção da greve dos/as docentes das universidades federais do Ceará.\n \nFortaleza\, 01 de abril de 2024.\nAtenciosamente\, \nProf.ª Irenísia Torres de Oliveira\nPresidenta da ADUFC\n(Biênio 2023-2025) \n(*) Acesse este documento assinado digitalmente clicando aqui
URL:https://www.adufc.org.br/evento/reuniao-do-conselho-de-representantes-da-adufc/
LOCATION:Sede da ADUFC-Fortaleza\, Av. da Universidade\, 2346\, Fortaleza\, Ceará\, 60020-180\, Brasil
END:VEVENT
END:VCALENDAR